BEGIN:VCALENDAR
VERSION:2.0
PRODID:-//nagatineau - ECPv6.15.20//NONSGML v1.0//EN
CALSCALE:GREGORIAN
METHOD:PUBLISH
X-ORIGINAL-URL:https://nagatineau.ca
X-WR-CALDESC:Évènements pour nagatineau
REFRESH-INTERVAL;VALUE=DURATION:PT1H
X-Robots-Tag:noindex
X-PUBLISHED-TTL:PT1H
BEGIN:VTIMEZONE
TZID:America/Toronto
BEGIN:DAYLIGHT
TZOFFSETFROM:-0500
TZOFFSETTO:-0400
TZNAME:EDT
DTSTART:20210314T070000
END:DAYLIGHT
BEGIN:STANDARD
TZOFFSETFROM:-0400
TZOFFSETTO:-0500
TZNAME:EST
DTSTART:20211107T060000
END:STANDARD
BEGIN:DAYLIGHT
TZOFFSETFROM:-0500
TZOFFSETTO:-0400
TZNAME:EDT
DTSTART:20220313T070000
END:DAYLIGHT
BEGIN:STANDARD
TZOFFSETFROM:-0400
TZOFFSETTO:-0500
TZNAME:EST
DTSTART:20221106T060000
END:STANDARD
BEGIN:DAYLIGHT
TZOFFSETFROM:-0500
TZOFFSETTO:-0400
TZNAME:EDT
DTSTART:20230312T070000
END:DAYLIGHT
BEGIN:STANDARD
TZOFFSETFROM:-0400
TZOFFSETTO:-0500
TZNAME:EST
DTSTART:20231105T060000
END:STANDARD
END:VTIMEZONE
BEGIN:VEVENT
DTSTART;VALUE=DATE:20220326
DTEND;VALUE=DATE:20220328
DTSTAMP:20260415T064037
CREATED:20220317T203457Z
LAST-MODIFIED:20220317T203457Z
UID:736-1648252800-1648425599@nagatineau.ca
SUMMARY:Compétition Inter-Division
DESCRIPTION:Compétition Inter-Division pour les Apprentis U10\, les Aspirants U12\, les Intermédiaires 13-15 et les 16-20 ans.
URL:https://nagatineau.ca/calendrier/competition-inter-division/
LOCATION:St-Eustache\, St-Eustache\, Québec\, Canada
CATEGORIES:Compétition
END:VEVENT
END:VCALENDAR