BEGIN:VCALENDAR
VERSION:2.0
PRODID:-//nagatineau - ECPv6.15.20//NONSGML v1.0//EN
CALSCALE:GREGORIAN
METHOD:PUBLISH
X-ORIGINAL-URL:https://nagatineau.ca
X-WR-CALDESC:Évènements pour nagatineau
REFRESH-INTERVAL;VALUE=DURATION:PT1H
X-Robots-Tag:noindex
X-PUBLISHED-TTL:PT1H
BEGIN:VTIMEZONE
TZID:America/Toronto
BEGIN:DAYLIGHT
TZOFFSETFROM:-0500
TZOFFSETTO:-0400
TZNAME:EDT
DTSTART:20210314T070000
END:DAYLIGHT
BEGIN:STANDARD
TZOFFSETFROM:-0400
TZOFFSETTO:-0500
TZNAME:EST
DTSTART:20211107T060000
END:STANDARD
BEGIN:DAYLIGHT
TZOFFSETFROM:-0500
TZOFFSETTO:-0400
TZNAME:EDT
DTSTART:20220313T070000
END:DAYLIGHT
BEGIN:STANDARD
TZOFFSETFROM:-0400
TZOFFSETTO:-0500
TZNAME:EST
DTSTART:20221106T060000
END:STANDARD
BEGIN:DAYLIGHT
TZOFFSETFROM:-0500
TZOFFSETTO:-0400
TZNAME:EDT
DTSTART:20230312T070000
END:DAYLIGHT
BEGIN:STANDARD
TZOFFSETFROM:-0400
TZOFFSETTO:-0500
TZNAME:EST
DTSTART:20231105T060000
END:STANDARD
END:VTIMEZONE
BEGIN:VEVENT
DTSTART;TZID=America/Toronto:20220611T173000
DTEND;TZID=America/Toronto:20220611T180000
DTSTAMP:20260415T064231
CREATED:20220514T152817Z
LAST-MODIFIED:20220528T170703Z
UID:916-1654968600-1654970400@nagatineau.ca
SUMMARY:Gala de la paillette d'or
DESCRIPTION:Le club NAGE est fier de vous informer du retour du traditionnel gala de la paillette d’or! Ce gala est une belle occasion de célébrer la fin de la saison 2021-2022. \nParents\, nageuses et entraîneurs\, réservez la date du 11 juin en soirée afin de venir fêter avec nous!  Prière de consulter l’invitation. \nPour les nageuses compétitives et précompétitives\, parents et entraîneurs : \nN’oubliez pas de vous inscrire au gala de la paillette d’or !!! \nLe gala aura lieu après le spectacle\, soit le 11 juin prochain à la salle Père-Arthur-Guertin. L’accueil se fera à partir de 17h30. Lors de cette soirée\, un repas du traiteur « Les Flavoureux » vous sera servi. C’est gratuit pour nos nageuses pré compétitives\, compétitives et entraîneurs. \nParents et accompagnateurs\nLes billets d’entrée sont au coût de 40$ pour les parents et accompagnateurs. Ils seront en vente jusqu’au 31 mai prochain. \nPour acheter vos billets\, cliquez sur le lien suivant. \nVous devez acheter les billets selon les repas qui vous seront servis lors de la soirée. Vous ne pourrez pas changer d’idée lors du souper.  \nLes repas seront accompagnés de salade jardinière\, pain\, dessert et de rafraîchissements. Du vin vous sera offert pendant le souper. Un service de bar sera également offert tout au long de la soirée. \n*** Si vous avez des allergies alimentaires\, veuillez-nous en informer en répondant à ce courriel. \nNageuses compétitives\, pré compétitives et entraîneurs\nFaites votre choix de menu en cliquant sur le lien suivant : Choix de menu \n*Parents\, veuillez informer ou remplir le formulaire avec votre fille\, merci! \nEn terminant \n*** Nous avons encore besoin de plusieurs bénévoles pour le spectacle et le gala. Pour nous aider\, vous pouvez donner votre nom en cliquant sur le lien suivant : Bénévoles spectacle et gala \nCe sera votre dernière occasion de remplir vos heures de bénévolat cette année selon la politique du club\, merci! \nAu plaisir de vous y voir en grand nombre !!!
URL:https://nagatineau.ca/calendrier/gala-de-la-paillette-dor/
LOCATION:Centre Père Arthur Guertin\, 16 rue Bériault\, Gatineau\, Québec\, J8X1A2\, Canada
CATEGORIES:Gala
END:VEVENT
END:VCALENDAR